BEGIN:VCALENDAR
VERSION:2.0
PRODID:-//Silver Circle Pagan/Wiccan Temple, Hamilton Ontario Canada  - ECPv6.11.2//NONSGML v1.0//EN
CALSCALE:GREGORIAN
METHOD:PUBLISH
X-WR-CALNAME:Silver Circle Pagan/Wiccan Temple, Hamilton Ontario Canada 
X-ORIGINAL-URL:https://silvercirclepagans.ca
X-WR-CALDESC:Events for Silver Circle Pagan/Wiccan Temple, Hamilton Ontario Canada 
REFRESH-INTERVAL;VALUE=DURATION:PT1H
X-Robots-Tag:noindex
X-PUBLISHED-TTL:PT1H
BEGIN:VTIMEZONE
TZID:America/Toronto
BEGIN:DAYLIGHT
TZOFFSETFROM:-0500
TZOFFSETTO:-0400
TZNAME:EDT
DTSTART:20260308T070000
END:DAYLIGHT
BEGIN:STANDARD
TZOFFSETFROM:-0400
TZOFFSETTO:-0500
TZNAME:EST
DTSTART:20261101T060000
END:STANDARD
END:VTIMEZONE
BEGIN:VEVENT
DTSTART;TZID=America/Toronto:20260220T200000
DTEND;TZID=America/Toronto:20260220T230000
DTSTAMP:20260423T175421
CREATED:20251029T004138Z
LAST-MODIFIED:20260217T031307Z
UID:668-1771617600-1771628400@silvercirclepagans.ca
SUMMARY:Community Wiccan/Pagan Ritual: The Bragi
DESCRIPTION:Join Silver Circle for an evening filled with fun\, frivolity and community. Come prepared to be gifted apples of Idunn for brags and performances. Share your favourite Norse myth\, a joke\, a song\, a dance or just sit back and enjoy the evening.Remember to bring feast food to share but not dessert. Apples of Idunn will be shared with the brave and the daring! There will be horns with mead and apple cider (non-alcoholic) that travel around the room. If you drink\, please do not drive. Many of us have already arranged for designated drivers.\n\n\nWe will be running some fun fundraising opportunities at the Bragi as well – it is always a really fun evening. People are welcome to leave whenever they wish however\, the Bragi often runs quite late. Doors close at 12:00pm.\n\n\nCan’t make it in person? watch online at\,\nZoom Information: https://us02web.zoom.us/j/84903735487…\nMeeting ID: 849 0373 5487\nPasscode: 863723
URL:https://silvercirclepagans.ca/event/community-wiccan-pagan-ritual-4/
LOCATION:First Unitarian Church of Hamilton\, 170 Dundurn St. S.\, Ontario\, L8P 4K3\, Canada
CATEGORIES:Ritual
ATTACH;FMTTYPE=image/jpeg:https://silvercirclepagans.ca/wp-content/uploads/2025/10/Bragi.jpg
ORGANIZER;CN="Silver Circle":MAILTO:silvercirclepagan@gmail.com
END:VEVENT
BEGIN:VEVENT
DTSTART;TZID=America/Toronto:20260306T200000
DTEND;TZID=America/Toronto:20260306T230000
DTSTAMP:20260423T175421
CREATED:20251029T004250Z
LAST-MODIFIED:20260303T044911Z
UID:670-1772827200-1772838000@silvercirclepagans.ca
SUMMARY:Community Wiccan/Pagan Ritual: Astragalamancy Ritual
DESCRIPTION:Step into the ancient art of Astragalomancy with Silver Circle’s ritual gathering — a chance to explore divination through the cast of sacred dice and the wisdom they reveal. Whether you join us in person or connect from home\, this ritual invites you into a space of intuition\, symbolism\, and gentle guidance.\n\n\n✦ How to Join \n\n\n\n\nIn person: All ritual supplies will be provided for you.\n\n\n\n\n\n\nOnline: Please have three dice\, a piece of paper\, and a pencil ready so you can fully participate.\n\n\n\n\nCan’t make it in person? watch online at\,\nZoom Information: https://us02web.zoom.us/j/84903735487…\nMeeting ID: 849 0373 5487\nPasscode: 863723
URL:https://silvercirclepagans.ca/event/community-wiccan-pagan-ritual-5/
LOCATION:First Unitarian Church of Hamilton\, 170 Dundurn St. S.\, Ontario\, L8P 4K3\, Canada
CATEGORIES:Ritual
ATTACH;FMTTYPE=image/jpeg:https://silvercirclepagans.ca/wp-content/uploads/2025/10/Astragalamancy-ritual.jpg
ORGANIZER;CN="Silver Circle":MAILTO:silvercirclepagan@gmail.com
END:VEVENT
BEGIN:VEVENT
DTSTART;TZID=America/Toronto:20260320T200000
DTEND;TZID=America/Toronto:20260320T230000
DTSTAMP:20260423T175421
CREATED:20251029T005623Z
LAST-MODIFIED:20260318T203455Z
UID:687-1774036800-1774047600@silvercirclepagans.ca
SUMMARY:Community Wiccan/Pagan Ritual: Rite of Spring: Isis and Nephthys
DESCRIPTION:As the wheel turns once more\, we gather to honour the Spring Equinox—the moment of perfect balance between light and dark\, when the earth stirs\, the winds soften\, and life begins its ascent from winter’s quiet depths. On this sacred evening\, we call upon Isis and Nephthys\, the divine sisters whose mysteries hold both the promise of rebirth and the wisdom of transition.After the ritual\, we will share in a communal feast. Please bring a dish to contribute. Spring is a time of nourishment\, awakening\, and joyful abundance\, and our shared table reflects the strength and warmth of our community.Our gatherings\, teachings\, and celebrations are made possible through the generosity of our attendees. Your donations help sustain our work and keep our circle thriving. \n\nCan’t make it in person? watch online at\,\nZoom Information: https://us02web.zoom.us/j/84903735487…\nMeeting ID: 849 0373 5487\nPasscode: 863723
URL:https://silvercirclepagans.ca/event/community-wiccan-pagan-ritual-6/
LOCATION:First Unitarian Church of Hamilton\, 170 Dundurn St. S.\, Ontario\, L8P 4K3\, Canada
CATEGORIES:Ritual
ATTACH;FMTTYPE=image/jpeg:https://silvercirclepagans.ca/wp-content/uploads/2025/10/Isis-and-Nephthys.jpg
ORGANIZER;CN="Silver Circle":MAILTO:silvercirclepagan@gmail.com
END:VEVENT
BEGIN:VEVENT
DTSTART;TZID=America/Toronto:20260403T200000
DTEND;TZID=America/Toronto:20260403T230000
DTSTAMP:20260423T175421
CREATED:20251230T040009Z
LAST-MODIFIED:20260330T033803Z
UID:729-1775246400-1775257200@silvercirclepagans.ca
SUMMARY:Community Wiccan/Pagan Ritual: The Elements in Spring Ritual
DESCRIPTION:The Elements in Spring Ritual is a peaceful gathering that honours the soft turning of the season and the playful re‑emergence of Air\, Fire\, Water\, and Earth. As winter loosens its hold\, this rite offers a space to breathe deeply\, reconnect with the natural world\, and feel the subtle energies that rise with early spring.\n\n\nWhat to Expect\n\n\n\n\nA softly guided circle focused on renewal\, balance\, and elemental presence\n\n\n\n\n\n\nGentle meditative moments and simple\, inclusive workings\n\n\n\n\n\n\nA welcoming atmosphere where observation or participation are equally respected\n\n\n\n\n\n\nSpace to connect with community in a warm\, supportive environment\n\n\n\n\nRobes and street clothes are equally welcome; comfort and authenticity are the only requirements. All who arrive with an open heart and mind are invited to join the circle.
URL:https://silvercirclepagans.ca/event/community-wiccan-pagan-ritual-7/
LOCATION:First Unitarian Church of Hamilton\, 170 Dundurn St. S.\, Ontario\, L8P 4K3\, Canada
CATEGORIES:Ritual
ATTACH;FMTTYPE=image/jpeg:https://silvercirclepagans.ca/wp-content/uploads/2025/12/Elements-in-Spring-ritual.jpg
ORGANIZER;CN="Silver Circle":MAILTO:silvercirclepagan@gmail.com
END:VEVENT
BEGIN:VEVENT
DTSTART;TZID=America/Toronto:20260417T200000
DTEND;TZID=America/Toronto:20260417T230000
DTSTAMP:20260423T175421
CREATED:20251230T040244Z
LAST-MODIFIED:20260413T033333Z
UID:733-1776456000-1776466800@silvercirclepagans.ca
SUMMARY:Community Wiccan/Pagan Ritual: Dark Moon Ritual
DESCRIPTION:Join us beneath the moonless sky. The Dark Moon invites us inward—into stillness\, reflection\, and the subtle magic that stirs in the shadows. Together\, we’ll honour this liminal moment and open space for what is yet to come.\n\n\nPlease dress for the weather\, and feel free to bring an outdoor chair or blanket for comfort.\n\n\nSilver Circle is a community‑supported initiative\, and we are grateful for the generosity that keeps our gatherings accessible. If you feel called to contribute\, donations are warmly appreciated.
URL:https://silvercirclepagans.ca/event/community-wiccan-pagan-ritual-dark-moon-ritual/
LOCATION:First Unitarian Church of Hamilton\, 170 Dundurn St. S.\, Ontario\, L8P 4K3\, Canada
CATEGORIES:Ritual
ATTACH;FMTTYPE=image/jpeg:https://silvercirclepagans.ca/wp-content/uploads/2025/12/Dark-Moon-Ritual.jpg
ORGANIZER;CN="Silver Circle":MAILTO:silvercirclepagan@gmail.com
END:VEVENT
BEGIN:VEVENT
DTSTART;TZID=America/Toronto:20260501T200000
DTEND;TZID=America/Toronto:20260501T230000
DTSTAMP:20260423T175421
CREATED:20251230T040606Z
LAST-MODIFIED:20251230T040606Z
UID:737-1777665600-1777676400@silvercirclepagans.ca
SUMMARY:Community Wiccan/Pagan Ritual: Bealtaine Sabbat
DESCRIPTION:
URL:https://silvercirclepagans.ca/event/community-wiccan-pagan-ritual-bealtaine-sabbat/
LOCATION:First Unitarian Church of Hamilton\, 170 Dundurn St. S.\, Ontario\, L8P 4K3\, Canada
CATEGORIES:Ritual
ORGANIZER;CN="Silver Circle":MAILTO:silvercirclepagan@gmail.com
END:VEVENT
BEGIN:VEVENT
DTSTART;TZID=America/Toronto:20260515T200000
DTEND;TZID=America/Toronto:20260515T230000
DTSTAMP:20260423T175421
CREATED:20251230T040930Z
LAST-MODIFIED:20251230T040930Z
UID:741-1778875200-1778886000@silvercirclepagans.ca
SUMMARY:Community Wiccan/Pagan Ritual: Hand and Summoner Investiture
DESCRIPTION:
URL:https://silvercirclepagans.ca/event/community-wiccan-pagan-ritual-hand-and-summoner-investiture/
LOCATION:First Unitarian Church of Hamilton\, 170 Dundurn St. S.\, Ontario\, L8P 4K3\, Canada
CATEGORIES:Ritual
ORGANIZER;CN="Silver Circle":MAILTO:silvercirclepagan@gmail.com
END:VEVENT
BEGIN:VEVENT
DTSTART;TZID=America/Toronto:20260529T080000
DTEND;TZID=America/Toronto:20260529T170000
DTSTAMP:20260423T175421
CREATED:20251230T041248Z
LAST-MODIFIED:20251230T041248Z
UID:745-1780041600-1780074000@silvercirclepagans.ca
SUMMARY:Fun Friday: (Regular Members only)
DESCRIPTION:
URL:https://silvercirclepagans.ca/event/fun-friday-regular-members-only/
LOCATION:Ontario
CATEGORIES:Ritual
ORGANIZER;CN="Silver Circle":MAILTO:silvercirclepagan@gmail.com
END:VEVENT
BEGIN:VEVENT
DTSTART;TZID=America/Toronto:20260605T200000
DTEND;TZID=America/Toronto:20260605T230000
DTSTAMP:20260423T175421
CREATED:20251230T041415Z
LAST-MODIFIED:20251230T041415Z
UID:747-1780689600-1780700400@silvercirclepagans.ca
SUMMARY:Community Wiccan/Pagan Ritual:
DESCRIPTION:
URL:https://silvercirclepagans.ca/event/community-wiccan-pagan-ritual-8/
LOCATION:First Unitarian Church of Hamilton\, 170 Dundurn St. S.\, Ontario\, L8P 4K3\, Canada
CATEGORIES:Ritual
ORGANIZER;CN="Silver Circle":MAILTO:silvercirclepagan@gmail.com
END:VEVENT
BEGIN:VEVENT
DTSTART;TZID=America/Toronto:20260619T200000
DTEND;TZID=America/Toronto:20260619T230000
DTSTAMP:20260423T175421
CREATED:20251230T041650Z
LAST-MODIFIED:20251230T041650Z
UID:751-1781899200-1781910000@silvercirclepagans.ca
SUMMARY:Community Wiccan/Pagan Ritual:
DESCRIPTION:
URL:https://silvercirclepagans.ca/event/community-wiccan-pagan-ritual-9/
LOCATION:First Unitarian Church of Hamilton\, 170 Dundurn St. S.\, Ontario\, L8P 4K3\, Canada
CATEGORIES:Ritual
ORGANIZER;CN="Silver Circle":MAILTO:silvercirclepagan@gmail.com
END:VEVENT
BEGIN:VEVENT
DTSTART;TZID=America/Toronto:20260703T200000
DTEND;TZID=America/Toronto:20260703T230000
DTSTAMP:20260423T175421
CREATED:20260202T050928Z
LAST-MODIFIED:20260202T050928Z
UID:788-1783108800-1783119600@silvercirclepagans.ca
SUMMARY:Community Wiccan/Pagan Ritual:
DESCRIPTION:
URL:https://silvercirclepagans.ca/event/community-wiccan-pagan-ritual-11/
LOCATION:First Unitarian Church of Hamilton\, 170 Dundurn St. S.\, Ontario\, L8P 4K3\, Canada
CATEGORIES:Ritual
ORGANIZER;CN="Silver Circle":MAILTO:silvercirclepagan@gmail.com
END:VEVENT
BEGIN:VEVENT
DTSTART;TZID=America/Toronto:20260717T200000
DTEND;TZID=America/Toronto:20260717T230000
DTSTAMP:20260423T175421
CREATED:20260202T051021Z
LAST-MODIFIED:20260202T051021Z
UID:790-1784318400-1784329200@silvercirclepagans.ca
SUMMARY:Community Wiccan/Pagan Ritual:
DESCRIPTION:
URL:https://silvercirclepagans.ca/event/community-wiccan-pagan-ritual-12/
LOCATION:First Unitarian Church of Hamilton\, 170 Dundurn St. S.\, Ontario\, L8P 4K3\, Canada
CATEGORIES:Ritual
ORGANIZER;CN="Silver Circle":MAILTO:silvercirclepagan@gmail.com
END:VEVENT
BEGIN:VEVENT
DTSTART;TZID=America/Toronto:20260807T200000
DTEND;TZID=America/Toronto:20260807T230000
DTSTAMP:20260423T175421
CREATED:20260126T183556Z
LAST-MODIFIED:20260126T183556Z
UID:783-1786132800-1786143600@silvercirclepagans.ca
SUMMARY:Community Wiccan/Pagan Ritual:
DESCRIPTION:
URL:https://silvercirclepagans.ca/event/community-wiccan-pagan-ritual-10/
LOCATION:First Unitarian Church of Hamilton\, 170 Dundurn St. S.\, Ontario\, L8P 4K3\, Canada
CATEGORIES:Ritual
ORGANIZER;CN="Silver Circle":MAILTO:silvercirclepagan@gmail.com
END:VEVENT
BEGIN:VEVENT
DTSTART;TZID=America/Toronto:20260821T200000
DTEND;TZID=America/Toronto:20260821T230000
DTSTAMP:20260423T175421
CREATED:20260202T051400Z
LAST-MODIFIED:20260202T051400Z
UID:799-1787342400-1787353200@silvercirclepagans.ca
SUMMARY:Community Wiccan/Pagan Ritual:
DESCRIPTION:
URL:https://silvercirclepagans.ca/event/community-wiccan-pagan-ritual-13/
LOCATION:First Unitarian Church of Hamilton\, 170 Dundurn St. S.\, Ontario\, L8P 4K3\, Canada
CATEGORIES:Ritual
ORGANIZER;CN="Silver Circle":MAILTO:silvercirclepagan@gmail.com
END:VEVENT
BEGIN:VEVENT
DTSTART;TZID=America/Toronto:20260904T200000
DTEND;TZID=America/Toronto:20260904T230000
DTSTAMP:20260423T175421
CREATED:20260217T031520Z
LAST-MODIFIED:20260217T031520Z
UID:814-1788552000-1788562800@silvercirclepagans.ca
SUMMARY:Community Wiccan/Pagan Ritual:
DESCRIPTION:
URL:https://silvercirclepagans.ca/event/community-wiccan-pagan-ritual-14/
LOCATION:First Unitarian Church of Hamilton\, 170 Dundurn St. S.\, Ontario\, L8P 4K3\, Canada
CATEGORIES:Ritual
ORGANIZER;CN="Silver Circle":MAILTO:silvercirclepagan@gmail.com
END:VEVENT
BEGIN:VEVENT
DTSTART;TZID=America/Toronto:20260918T200000
DTEND;TZID=America/Toronto:20260918T230000
DTSTAMP:20260423T175421
CREATED:20260217T031607Z
LAST-MODIFIED:20260217T031607Z
UID:816-1789761600-1789772400@silvercirclepagans.ca
SUMMARY:Community Wiccan/Pagan Ritual:
DESCRIPTION:
URL:https://silvercirclepagans.ca/event/community-wiccan-pagan-ritual-15/
LOCATION:First Unitarian Church of Hamilton\, 170 Dundurn St. S.\, Ontario\, L8P 4K3\, Canada
CATEGORIES:Ritual
ORGANIZER;CN="Silver Circle":MAILTO:silvercirclepagan@gmail.com
END:VEVENT
BEGIN:VEVENT
DTSTART;TZID=America/Toronto:20260918T200000
DTEND;TZID=America/Toronto:20260918T230000
DTSTAMP:20260423T175421
CREATED:20260217T031750Z
LAST-MODIFIED:20260217T031750Z
UID:820-1789761600-1789772400@silvercirclepagans.ca
SUMMARY:Community Wiccan/Pagan Ritual:
DESCRIPTION:
URL:https://silvercirclepagans.ca/event/community-wiccan-pagan-ritual-17/
LOCATION:First Unitarian Church of Hamilton\, 170 Dundurn St. S.\, Ontario\, L8P 4K3\, Canada
CATEGORIES:Ritual
ORGANIZER;CN="Silver Circle":MAILTO:silvercirclepagan@gmail.com
END:VEVENT
BEGIN:VEVENT
DTSTART;TZID=America/Toronto:20261002T200000
DTEND;TZID=America/Toronto:20261002T230000
DTSTAMP:20260423T175421
CREATED:20260217T031654Z
LAST-MODIFIED:20260217T031654Z
UID:818-1790971200-1790982000@silvercirclepagans.ca
SUMMARY:Community Wiccan/Pagan Ritual:
DESCRIPTION:
URL:https://silvercirclepagans.ca/event/community-wiccan-pagan-ritual-16/
LOCATION:First Unitarian Church of Hamilton\, 170 Dundurn St. S.\, Ontario\, L8P 4K3\, Canada
CATEGORIES:Ritual
ORGANIZER;CN="Silver Circle":MAILTO:silvercirclepagan@gmail.com
END:VEVENT
BEGIN:VEVENT
DTSTART;TZID=America/Toronto:20261016T200000
DTEND;TZID=America/Toronto:20261016T230000
DTSTAMP:20260423T175421
CREATED:20260217T031844Z
LAST-MODIFIED:20260217T031844Z
UID:822-1792180800-1792191600@silvercirclepagans.ca
SUMMARY:Community Wiccan/Pagan Ritual:
DESCRIPTION:
URL:https://silvercirclepagans.ca/event/community-wiccan-pagan-ritual-18/
LOCATION:First Unitarian Church of Hamilton\, 170 Dundurn St. S.\, Ontario\, L8P 4K3\, Canada
CATEGORIES:Ritual
ORGANIZER;CN="Silver Circle":MAILTO:silvercirclepagan@gmail.com
END:VEVENT
BEGIN:VEVENT
DTSTART;TZID=America/Toronto:20261030T200000
DTEND;TZID=America/Toronto:20261030T230000
DTSTAMP:20260423T175421
CREATED:20260217T031948Z
LAST-MODIFIED:20260217T031948Z
UID:824-1793390400-1793401200@silvercirclepagans.ca
SUMMARY:Community Wiccan/Pagan Ritual: Samhain
DESCRIPTION:(Pending hall rental)
URL:https://silvercirclepagans.ca/event/community-wiccan-pagan-ritual-samhain/
LOCATION:First Unitarian Church of Hamilton\, 170 Dundurn St. S.\, Ontario\, L8P 4K3\, Canada
CATEGORIES:Ritual
ORGANIZER;CN="Silver Circle":MAILTO:silvercirclepagan@gmail.com
END:VEVENT
BEGIN:VEVENT
DTSTART;TZID=America/Toronto:20261106T200000
DTEND;TZID=America/Toronto:20261106T230000
DTSTAMP:20260423T175421
CREATED:20260217T032116Z
LAST-MODIFIED:20260217T032422Z
UID:826-1793995200-1794006000@silvercirclepagans.ca
SUMMARY:Community Wiccan/Pagan Ritual:
DESCRIPTION:
URL:https://silvercirclepagans.ca/event/community-wiccan-pagan-ritual-19/
LOCATION:First Unitarian Church of Hamilton\, 170 Dundurn St. S.\, Ontario\, L8P 4K3\, Canada
CATEGORIES:Ritual
ORGANIZER;CN="Silver Circle":MAILTO:silvercirclepagan@gmail.com
END:VEVENT
BEGIN:VEVENT
DTSTART;TZID=America/Toronto:20261120T200000
DTEND;TZID=America/Toronto:20261120T230000
DTSTAMP:20260423T175421
CREATED:20260217T032151Z
LAST-MODIFIED:20260217T032450Z
UID:828-1795204800-1795215600@silvercirclepagans.ca
SUMMARY:Community Wiccan/Pagan Ritual:
DESCRIPTION:
URL:https://silvercirclepagans.ca/event/community-wiccan-pagan-ritual-20/
LOCATION:First Unitarian Church of Hamilton\, 170 Dundurn St. S.\, Ontario\, L8P 4K3\, Canada
CATEGORIES:Ritual
ORGANIZER;CN="Silver Circle":MAILTO:silvercirclepagan@gmail.com
END:VEVENT
BEGIN:VEVENT
DTSTART;TZID=America/Toronto:20261204T200000
DTEND;TZID=America/Toronto:20261204T230000
DTSTAMP:20260423T175421
CREATED:20260217T032228Z
LAST-MODIFIED:20260217T032436Z
UID:830-1796414400-1796425200@silvercirclepagans.ca
SUMMARY:Community Wiccan/Pagan Ritual:
DESCRIPTION:
URL:https://silvercirclepagans.ca/event/community-wiccan-pagan-ritual-21/
LOCATION:First Unitarian Church of Hamilton\, 170 Dundurn St. S.\, Ontario\, L8P 4K3\, Canada
CATEGORIES:Ritual
ORGANIZER;CN="Silver Circle":MAILTO:silvercirclepagan@gmail.com
END:VEVENT
BEGIN:VEVENT
DTSTART;TZID=America/Toronto:20261218T080000
DTEND;TZID=America/Toronto:20261218T170000
DTSTAMP:20260423T175421
CREATED:20260217T032320Z
LAST-MODIFIED:20260217T032350Z
UID:832-1797580800-1797613200@silvercirclepagans.ca
SUMMARY:Community Wiccan/Pagan Ritual: Winter Solstice
DESCRIPTION:
URL:https://silvercirclepagans.ca/event/community-wiccan-pagan-ritual-22/
LOCATION:First Unitarian Church of Hamilton\, 170 Dundurn St. S.\, Ontario\, L8P 4K3\, Canada
CATEGORIES:Ritual
ORGANIZER;CN="Silver Circle":MAILTO:silvercirclepagan@gmail.com
END:VEVENT
END:VCALENDAR