BEGIN:VCALENDAR
VERSION:2.0
PRODID:-//Silver Circle Pagan/Wiccan Temple, Hamilton Ontario Canada  - ECPv6.11.2//NONSGML v1.0//EN
CALSCALE:GREGORIAN
METHOD:PUBLISH
X-WR-CALNAME:Silver Circle Pagan/Wiccan Temple, Hamilton Ontario Canada 
X-ORIGINAL-URL:https://silvercirclepagans.ca
X-WR-CALDESC:Events for Silver Circle Pagan/Wiccan Temple, Hamilton Ontario Canada 
REFRESH-INTERVAL;VALUE=DURATION:PT1H
X-Robots-Tag:noindex
X-PUBLISHED-TTL:PT1H
BEGIN:VTIMEZONE
TZID:America/Toronto
BEGIN:DAYLIGHT
TZOFFSETFROM:-0500
TZOFFSETTO:-0400
TZNAME:EDT
DTSTART:20250309T070000
END:DAYLIGHT
BEGIN:STANDARD
TZOFFSETFROM:-0400
TZOFFSETTO:-0500
TZNAME:EST
DTSTART:20251102T060000
END:STANDARD
END:VTIMEZONE
BEGIN:VEVENT
DTSTART;TZID=America/Toronto:20250801T200000
DTEND;TZID=America/Toronto:20250801T230000
DTSTAMP:20260423T160739
CREATED:20250416T151050Z
LAST-MODIFIED:20250729T145406Z
UID:286-1754078400-1754089200@silvercirclepagans.ca
SUMMARY:Bard Investiture Ritual
DESCRIPTION:Silver Circle Presents: 2nd Bard Investiture! \n\n\n Come one\, come all—join us as we welcome the newest Bard into the heart of our community with warmth\, wonder\, and wild creativity! It’s our annual celebration of artistry and appreciation\, and you’re invited to take part.\n\n\n We’ll honor the Bard’s year of service with a jubilant gathering full of stories\, songs\, and spellbinding performances by our vibrant members. Whether you feel moved to take the stage or prefer to soak it all in\, there’s a place for you.\n\n\n Want to perform? Sing a tune\, strum a chord\, spin a tale\, dance\, laugh\, or share your favorite myth. All forms of expression are welcome! Send an email to silvercirclepagan@gmail.com to join in the fun and share a performance!\n\n\nCan’t make it in person? watch online at\,\nZoom Information: https://us02web.zoom.us/j/84903735487…\nMeeting ID: 849 0373 5487\nPasscode: 863723
URL:https://silvercirclepagans.ca/event/ritual-7/
LOCATION:First Unitarian Church of Hamilton\, 170 Dundurn St. S.\, Ontario\, L8P 4K3\, Canada
CATEGORIES:Ritual
ATTACH;FMTTYPE=image/jpeg:https://silvercirclepagans.ca/wp-content/uploads/2025/04/Bard-Investiture.jpg
ORGANIZER;CN="Silver Circle":MAILTO:silvercirclepagan@gmail.com
END:VEVENT
END:VCALENDAR