BEGIN:VCALENDAR
VERSION:2.0
PRODID:-//Silver Circle Pagan/Wiccan Temple, Hamilton Ontario Canada  - ECPv6.11.2//NONSGML v1.0//EN
CALSCALE:GREGORIAN
METHOD:PUBLISH
X-ORIGINAL-URL:https://silvercirclepagans.ca
X-WR-CALDESC:Events for Silver Circle Pagan/Wiccan Temple, Hamilton Ontario Canada 
REFRESH-INTERVAL;VALUE=DURATION:PT1H
X-Robots-Tag:noindex
X-PUBLISHED-TTL:PT1H
BEGIN:VTIMEZONE
TZID:America/Toronto
BEGIN:DAYLIGHT
TZOFFSETFROM:-0500
TZOFFSETTO:-0400
TZNAME:EDT
DTSTART:20250309T070000
END:DAYLIGHT
BEGIN:STANDARD
TZOFFSETFROM:-0400
TZOFFSETTO:-0500
TZNAME:EST
DTSTART:20251102T060000
END:STANDARD
END:VTIMEZONE
BEGIN:VEVENT
DTSTART;TZID=America/Toronto:20250620T200000
DTEND;TZID=America/Toronto:20250620T230000
DTSTAMP:20260423T193701
CREATED:20250416T145815Z
LAST-MODIFIED:20250902T030240Z
UID:269-1750449600-1750460400@silvercirclepagans.ca
SUMMARY:Summer Solstice Community Ritual
DESCRIPTION:Celebrate the Magic of the Summer Solstice! \n\n\nJoin us for an enchanting evening as we gather in the back garden at 170 Dundurn St. S.\, Hamilton\, on Friday\, June 20th at 8:00pm\, for a Summer Solstice Ritual and Potluck Feast.\n\n\nLet’s honor the longest day of the year with ritual\, connection\, and community spirit. Bring a dish to share —everyone with a open mind and heart is welcome.\n\n\n This is a volunteer-run gathering hosted by Silver Circle\, a grassroots spiritual community supported entirely by your donations. Contributions\, however big or small\, are gratefully accepted and help keep the magic alive.\n\n\nBring your positive intentions for the season ahead. Let’s make it a night to remember \n\n\nCan’t make it in person? watch online at\,\nZoom Information: https://us02web.zoom.us/j/84903735487…\nMeeting ID: 849 0373 5487\nPasscode: 863723
URL:https://silvercirclepagans.ca/event/ritual-2/
LOCATION:First Unitarian Church of Hamilton\, 170 Dundurn St. S.\, Ontario\, L8P 4K3\, Canada
CATEGORIES:Ritual
ATTACH;FMTTYPE=image/jpeg:https://silvercirclepagans.ca/wp-content/uploads/2025/04/summer-solstice-2025.jpg
ORGANIZER;CN="Silver Circle":MAILTO:silvercirclepagan@gmail.com
END:VEVENT
END:VCALENDAR