BEGIN:VCALENDAR
VERSION:2.0
PRODID:-//Silver Circle Pagan/Wiccan Temple, Hamilton Ontario Canada  - ECPv6.11.2//NONSGML v1.0//EN
CALSCALE:GREGORIAN
METHOD:PUBLISH
X-WR-CALNAME:Silver Circle Pagan/Wiccan Temple, Hamilton Ontario Canada 
X-ORIGINAL-URL:https://silvercirclepagans.ca
X-WR-CALDESC:Events for Silver Circle Pagan/Wiccan Temple, Hamilton Ontario Canada 
REFRESH-INTERVAL;VALUE=DURATION:PT1H
X-Robots-Tag:noindex
X-PUBLISHED-TTL:PT1H
BEGIN:VTIMEZONE
TZID:America/Toronto
BEGIN:DAYLIGHT
TZOFFSETFROM:-0500
TZOFFSETTO:-0400
TZNAME:EDT
DTSTART:20260308T070000
END:DAYLIGHT
BEGIN:STANDARD
TZOFFSETFROM:-0400
TZOFFSETTO:-0500
TZNAME:EST
DTSTART:20261101T060000
END:STANDARD
END:VTIMEZONE
BEGIN:VEVENT
DTSTART;TZID=America/Toronto:20260206T200000
DTEND;TZID=America/Toronto:20260206T230000
DTSTAMP:20260423T044947
CREATED:20251029T004021Z
LAST-MODIFIED:20260202T040541Z
UID:666-1770408000-1770418800@silvercirclepagans.ca
SUMMARY:Community Wiccan/Pagan Ritual: Imbolc
DESCRIPTION:All with open hearts and minds are welcome! We will share a community feast after ritual. Please bring a dish to share. \nAs the wheel turns\, Silver Circle gathers to honour Imbolc\, the festival of returning light\, inspiration\, and renewal. This sacred night invites us to step from winter’s stillness into the gentle promise of rebirth\, guided by Brigid—goddess of healing\, poetry\, and the sacred flame. \nIn old Irish custom\, the eve of Imbolc was marked by the laying out of the Brat Bríde—Brigid’s Mantle. A piece of cloth\, ribbon\, or garment was placed outside overnight so that Brigid might bless it as she passed through the land. The cloth\, touched by her presence\, was believed to gain healing properties and was kept throughout the year to soothe illness\, protect the household\, and bring comfort in times of need. \nWe will call upon Brigid as the Keeper of the Well and the Flame—she who tends the fires of transformation and the waters of restoration. Through guided working\, community intention\, and shared energy\, we will invite her healing presence into our lives\, our bodies\, and our spirits. \nAfter the ritual\, we will share in a communal feast. Please bring a dish to contribute to the table. Imbolc is a time of nourishment and renewal\, and our shared meal is a celebration of community\, abundance\, and the returning light. \n\nCan’t make it in person? watch online at\,\nZoom Information: https://us02web.zoom.us/j/84903735487…\nMeeting ID: 849 0373 5487\nPasscode: 863723
URL:https://silvercirclepagans.ca/event/community-wiccan-pagan-ritual-3/
LOCATION:First Unitarian Church of Hamilton\, 170 Dundurn St. S.\, Ontario\, L8P 4K3\, Canada
CATEGORIES:Ritual
ATTACH;FMTTYPE=image/jpeg:https://silvercirclepagans.ca/wp-content/uploads/2025/10/imbolc.jpg
ORGANIZER;CN="Silver Circle":MAILTO:silvercirclepagan@gmail.com
END:VEVENT
BEGIN:VEVENT
DTSTART;TZID=America/Toronto:20260220T200000
DTEND;TZID=America/Toronto:20260220T230000
DTSTAMP:20260423T044947
CREATED:20251029T004138Z
LAST-MODIFIED:20260217T031307Z
UID:668-1771617600-1771628400@silvercirclepagans.ca
SUMMARY:Community Wiccan/Pagan Ritual: The Bragi
DESCRIPTION:Join Silver Circle for an evening filled with fun\, frivolity and community. Come prepared to be gifted apples of Idunn for brags and performances. Share your favourite Norse myth\, a joke\, a song\, a dance or just sit back and enjoy the evening.Remember to bring feast food to share but not dessert. Apples of Idunn will be shared with the brave and the daring! There will be horns with mead and apple cider (non-alcoholic) that travel around the room. If you drink\, please do not drive. Many of us have already arranged for designated drivers.\n\n\nWe will be running some fun fundraising opportunities at the Bragi as well – it is always a really fun evening. People are welcome to leave whenever they wish however\, the Bragi often runs quite late. Doors close at 12:00pm.\n\n\nCan’t make it in person? watch online at\,\nZoom Information: https://us02web.zoom.us/j/84903735487…\nMeeting ID: 849 0373 5487\nPasscode: 863723
URL:https://silvercirclepagans.ca/event/community-wiccan-pagan-ritual-4/
LOCATION:First Unitarian Church of Hamilton\, 170 Dundurn St. S.\, Ontario\, L8P 4K3\, Canada
CATEGORIES:Ritual
ATTACH;FMTTYPE=image/jpeg:https://silvercirclepagans.ca/wp-content/uploads/2025/10/Bragi.jpg
ORGANIZER;CN="Silver Circle":MAILTO:silvercirclepagan@gmail.com
END:VEVENT
END:VCALENDAR