BEGIN:VCALENDAR
VERSION:2.0
PRODID:-//Silver Circle Pagan/Wiccan Temple, Hamilton Ontario Canada  - ECPv6.11.2//NONSGML v1.0//EN
CALSCALE:GREGORIAN
METHOD:PUBLISH
X-WR-CALNAME:Silver Circle Pagan/Wiccan Temple, Hamilton Ontario Canada 
X-ORIGINAL-URL:https://silvercirclepagans.ca
X-WR-CALDESC:Events for Silver Circle Pagan/Wiccan Temple, Hamilton Ontario Canada 
REFRESH-INTERVAL;VALUE=DURATION:PT1H
X-Robots-Tag:noindex
X-PUBLISHED-TTL:PT1H
BEGIN:VTIMEZONE
TZID:America/Toronto
BEGIN:DAYLIGHT
TZOFFSETFROM:-0500
TZOFFSETTO:-0400
TZNAME:EDT
DTSTART:20250309T070000
END:DAYLIGHT
BEGIN:STANDARD
TZOFFSETFROM:-0400
TZOFFSETTO:-0500
TZNAME:EST
DTSTART:20251102T060000
END:STANDARD
END:VTIMEZONE
BEGIN:VEVENT
DTSTART;TZID=America/Toronto:20250502T200000
DTEND;TZID=America/Toronto:20250502T230000
DTSTAMP:20260423T193356
CREATED:20250415T225631Z
LAST-MODIFIED:20250423T011631Z
UID:245-1746216000-1746226800@silvercirclepagans.ca
SUMMARY:Bealtaine Ritual: Come Dance the Maypole!
DESCRIPTION:Join us to dance the maypole! \n What to Expect:\n Sacred Circle Gathering – Connect with the energy of renewal and transformation.\n Maypole Dance – Join in this joyful\, traditional dance to weave the ribbons of prosperity and growth.\n Ritual Ceremony – Honor the changing of the seasons with Silver Circle.\n Community Feast – Bring your favorite dish to share with fellow celebrants!\n Dress Code: Whether in robes or street clothes\, all are welcome.\n Cost: Free! Donations are welcome to support future gatherings.\nAn evening of laughter\, unity\, and celebration awaits. Will you be dancing the Maypole under the spring moon?\n\n\n\nCan’t make it in person? watch online at\,\nZoom Information: https://us02web.zoom.us/j/84903735487…\nMeeting ID: 849 0373 5487\nPasscode: 863723
URL:https://silvercirclepagans.ca/event/beltane-ritual/
LOCATION:First Unitarian Church of Hamilton\, 170 Dundurn St. S.\, Ontario\, L8P 4K3\, Canada
CATEGORIES:Ritual
ATTACH;FMTTYPE=image/gif:https://silvercirclepagans.ca/wp-content/uploads/2025/04/beltaine.gif
ORGANIZER;CN="Silver Circle":MAILTO:silvercirclepagan@gmail.com
END:VEVENT
BEGIN:VEVENT
DTSTART;TZID=America/Toronto:20250516T200000
DTEND;TZID=America/Toronto:20250516T230000
DTSTAMP:20260423T193356
CREATED:20250416T144914Z
LAST-MODIFIED:20250514T025005Z
UID:259-1747425600-1747436400@silvercirclepagans.ca
SUMMARY:Temple Staff Turnover Ritual
DESCRIPTION:You’re invited to Silver Circle’s most sacred ritual of service as we honor the dedication of our incredible Hand and Summoner\, bidding them a heartfelt farewell\, and embracing the new leaders stepping into their roles. Our temple staff are the backbone of Silver Circle\, offering a year of unwavering commitment to keep our temple thriving.\n\n\nSilver Circle is entirely run by unpaid volunteers\, and every donation supports our rent and supplies\, ensuring our sacred space continues to flourish. Join us for this momentous occasion and be part of the energy that keeps our circle strong.\n\n  \n\n\nCan’t make it in person? watch online at\,\nZoom Information: https://us02web.zoom.us/j/84903735487…\nMeeting ID: 849 0373 5487\nPasscode: 863723
URL:https://silvercirclepagans.ca/event/temple-staff-turnover-ritual/
LOCATION:First Unitarian Church of Hamilton\, 170 Dundurn St. S.\, Ontario\, L8P 4K3\, Canada
CATEGORIES:Ritual
ATTACH;FMTTYPE=image/jpeg:https://silvercirclepagans.ca/wp-content/uploads/2025/04/Hand-Summoner.jpg
ORGANIZER;CN="Silver Circle":MAILTO:silvercirclepagan@gmail.com
END:VEVENT
END:VCALENDAR