BEGIN:VCALENDAR
VERSION:2.0
PRODID:-//Silver Circle Pagan/Wiccan Temple, Hamilton Ontario Canada  - ECPv6.11.2//NONSGML v1.0//EN
CALSCALE:GREGORIAN
METHOD:PUBLISH
X-WR-CALNAME:Silver Circle Pagan/Wiccan Temple, Hamilton Ontario Canada 
X-ORIGINAL-URL:https://silvercirclepagans.ca
X-WR-CALDESC:Events for Silver Circle Pagan/Wiccan Temple, Hamilton Ontario Canada 
REFRESH-INTERVAL;VALUE=DURATION:PT1H
X-Robots-Tag:noindex
X-PUBLISHED-TTL:PT1H
BEGIN:VTIMEZONE
TZID:America/Toronto
BEGIN:DAYLIGHT
TZOFFSETFROM:-0500
TZOFFSETTO:-0400
TZNAME:EDT
DTSTART:20250309T070000
END:DAYLIGHT
BEGIN:STANDARD
TZOFFSETFROM:-0400
TZOFFSETTO:-0500
TZNAME:EST
DTSTART:20251102T060000
END:STANDARD
END:VTIMEZONE
BEGIN:VEVENT
DTSTART;TZID=America/Toronto:20250614T110000
DTEND;TZID=America/Toronto:20250614T170000
DTSTAMP:20260421T173858
CREATED:20250419T175747Z
LAST-MODIFIED:20250604T043142Z
UID:406-1749898800-1749920400@silvercirclepagans.ca
SUMMARY:Niagara Region Pagan Celebration - Celebrating Summer Solstice!
DESCRIPTION:Silver Circle conducts the main ritual. \nWelcome to the 6th annual Niagara Region Pagan Celebration – Celebrating Summer Solstice!Hosted by The Purple Pentacle Special Events.\nJoin us in our celebration of Litha\, the Summer Solstice\, and enjoy ritual led by Silver Circle\, plus 50+ vendors offering pagan arts and crafts\, readers\, crystals\, candles\, spiritual items\, jewellery\, incense\, all the pagan tools and supplies you need!\nCome make your day more magickal!\n\n**Community event by Purple Pentacle Special Events**
URL:https://silvercirclepagans.ca/event/niagara-region-pagan-celebration-celebrating-summer-solstice/
LOCATION:Fireman’s Park Niagara Falls\, 2275 Dorchester Rd\, Niagara Falls\, Ontario\, L2J 4L6\, Canada
CATEGORIES:Festival,Ritual
ATTACH;FMTTYPE=image/jpeg:https://silvercirclepagans.ca/wp-content/uploads/2025/04/ppe-spring.jpg
END:VEVENT
END:VCALENDAR