BEGIN:VCALENDAR
VERSION:2.0
PRODID:-//Silver Circle Pagan/Wiccan Temple, Hamilton Ontario Canada  - ECPv6.11.2//NONSGML v1.0//EN
CALSCALE:GREGORIAN
METHOD:PUBLISH
X-ORIGINAL-URL:https://silvercirclepagans.ca
X-WR-CALDESC:Events for Silver Circle Pagan/Wiccan Temple, Hamilton Ontario Canada 
REFRESH-INTERVAL;VALUE=DURATION:PT1H
X-Robots-Tag:noindex
X-PUBLISHED-TTL:PT1H
BEGIN:VTIMEZONE
TZID:America/Toronto
BEGIN:DAYLIGHT
TZOFFSETFROM:-0500
TZOFFSETTO:-0400
TZNAME:EDT
DTSTART:20250309T070000
END:DAYLIGHT
BEGIN:STANDARD
TZOFFSETFROM:-0400
TZOFFSETTO:-0500
TZNAME:EST
DTSTART:20251102T060000
END:STANDARD
BEGIN:DAYLIGHT
TZOFFSETFROM:-0500
TZOFFSETTO:-0400
TZNAME:EDT
DTSTART:20260308T070000
END:DAYLIGHT
BEGIN:STANDARD
TZOFFSETFROM:-0400
TZOFFSETTO:-0500
TZNAME:EST
DTSTART:20261101T060000
END:STANDARD
END:VTIMEZONE
BEGIN:VEVENT
DTSTART;TZID=America/Toronto:20251114T190000
DTEND;TZID=America/Toronto:20251114T210000
DTSTAMP:20260421T171259
CREATED:20250902T025140Z
LAST-MODIFIED:20251111T172042Z
UID:555-1763146800-1763154000@silvercirclepagans.ca
SUMMARY:Online Class: Tarotmancing the Divine: Gateways to the Mystery School of Tarot
DESCRIPTION:Have you ever felt intimidated by the tarot or struggled to learn the cards and their meanings?Would you like to have a deep\, meaningful\, and magickal relationship with your cards? You’renot alone! Perhaps the reason why it is hard for some people to access the magick of the tarotis because it’s like a magickal mystery school! The secrets are on the cards in plain sight yet remain hidden for the uninitiated. In this workshop we’ll explore various gateways that can act as access points to enter the mysteries of the tarot! \nSome topics will include: \n\nincreasing our visual literacy\nelemental gateways to the tarot\nworking with the divine spirits of the tarot\nunique ways to work with the tarot to deepen any spiritual or magickal practice\nand much more!\n\nGrab a beverage and some cards and let’s enter the mysteries together!Christine Ford is a High Priestess with the Temple of Witchcraft having studied with Christopher Penczak in the temple’s Mystery School.Through the InSpirit Centre in Georgetown Ontario\, Christine currently offers psychic readings specializing in lithomancy\, cartomancy\, and mediumship. She regularly offers workshops on a variety of metaphysical and magickal topics and is a presenter for such events asTemplehearth\, WomynSpirit\, Silver Circle\, and the Hamilton Pagan Pride Festival.All Silver Circle classes are made possible through the generous donations of participants. To support this offering\, please e-transfer your donation to: silvercirclepagan@gmail.com
URL:https://silvercirclepagans.ca/event/online-class-tarotmancing-the-divine-gateways-to-the-mystery-school-of-tarot/
LOCATION:Zoom\, https://us02web.zoom.us/j/84903735487… Meeting ID: 849 0373 5487\, Passcode: 863723\, Canada
CATEGORIES:Class
ATTACH;FMTTYPE=image/jpeg:https://silvercirclepagans.ca/wp-content/uploads/2025/09/Tarotmancing.jpg
END:VEVENT
BEGIN:VEVENT
DTSTART;TZID=America/Toronto:20251128T190000
DTEND;TZID=America/Toronto:20251128T210000
DTSTAMP:20260421T171259
CREATED:20250902T025400Z
LAST-MODIFIED:20251125T032502Z
UID:560-1764356400-1764363600@silvercirclepagans.ca
SUMMARY:Online Class: Song and Chant
DESCRIPTION:Step into the circle of sound and spirit! Whether you’re a seasoned practitioner or just beginning your journey\, this gathering invites you to explore the power of voice\, rhythm\, and community. Together we’ll share chants both traditional and new\, weaving inspiration\, connection\, and joy through song.\n\n\n\nWhat to Expect:\n\n\n\nGentle guidance for beginners and fresh inspiration for those looking to add chant to their rites\nA welcoming space to raise your voice\nExploration of chants that uplift\, empower\, and connect us to tradition(s) and spirit
URL:https://silvercirclepagans.ca/event/online-class-song-and-chant/
LOCATION:Zoom\, https://us02web.zoom.us/j/84903735487… Meeting ID: 849 0373 5487\, Passcode: 863723\, Canada
CATEGORIES:Class
ATTACH;FMTTYPE=image/jpeg:https://silvercirclepagans.ca/wp-content/uploads/2025/09/Song-and-Chant.jpg
ORGANIZER;CN="Silver Circle":MAILTO:silvercirclepagan@gmail.com
END:VEVENT
BEGIN:VEVENT
DTSTART;TZID=America/Toronto:20251212T190000
DTEND;TZID=America/Toronto:20251212T210000
DTSTAMP:20260421T171259
CREATED:20250902T025857Z
LAST-MODIFIED:20251208T045521Z
UID:564-1765566000-1765573200@silvercirclepagans.ca
SUMMARY:Online Class: The Magick of Yule: Connecting with the Spirit of the Season
DESCRIPTION:The darkest night of the year approaches as we anticipate the return of light. The promise of a fresh new year beckons us to prepare. By candle flames and falling snow\, let us ready ourselves to turn the wheel of the year at Yule. In this workshop we’ll connect to the spirit of the season in a short\, guided meditation plus lots of craft and ritual ideas to help make this sabbat personal and special. Christine Ford is a High Priestess with the Temple of Witchcraft having studied with Christopher Penczak in the temple’s Mystery School. Through the InSpirit Centre in Georgetown Ontario\, Christine currently offers psychic readings specializing inlithomancy\, cartomancy\, and mediumship. She regularly offers workshops on a variety ofmetaphysical and magickal topics and is a presenter for such events as Templehearth\, WomynSpirit\, Silver Circle\, and the Hamilton Pagan Pride Festival.
URL:https://silvercirclepagans.ca/event/online-class-the-magick-of-yule-connecting-with-the-spirit-of-the-season/
LOCATION:Zoom\, https://us02web.zoom.us/j/84903735487… Meeting ID: 849 0373 5487\, Passcode: 863723\, Canada
CATEGORIES:Class
ATTACH;FMTTYPE=image/jpeg:https://silvercirclepagans.ca/wp-content/uploads/2025/09/Magic-of-Yule.jpg
ORGANIZER;CN="Silver Circle":MAILTO:silvercirclepagan@gmail.com
END:VEVENT
BEGIN:VEVENT
DTSTART;TZID=America/Toronto:20251226T070000
DTEND;TZID=America/Toronto:20251226T210000
DTSTAMP:20260421T171259
CREATED:20251029T004931Z
LAST-MODIFIED:20251220T052441Z
UID:673-1766732400-1766782800@silvercirclepagans.ca
SUMMARY:Online Class: NO CLASS DUE TO BOXING DAY
DESCRIPTION:NO CLASS THIS WEEK\, SEE EVERYONE ON JAN 2nd FOR RITUAL.
URL:https://silvercirclepagans.ca/event/online-class-12/
LOCATION:Zoom\, https://us02web.zoom.us/j/84903735487… Meeting ID: 849 0373 5487\, Passcode: 863723\, Canada
CATEGORIES:Class
ORGANIZER;CN="Silver Circle":MAILTO:silvercirclepagan@gmail.com
END:VEVENT
BEGIN:VEVENT
DTSTART;TZID=America/Toronto:20260109T190000
DTEND;TZID=America/Toronto:20260109T210000
DTSTAMP:20260421T171259
CREATED:20251029T005019Z
LAST-MODIFIED:20260105T045846Z
UID:675-1767985200-1767992400@silvercirclepagans.ca
SUMMARY:Online Class: Knot Magic
DESCRIPTION:Join Silver Circle for an enchanting evening exploring the ancient art of magical knot work—a practice found in cultures across the world\, from Celtic craft to Mediterranean folk magic. For centuries\, practitioners have woven intention into cord and thread\, using knots to bind protection\, seal blessings\, anchor spells\, and carry prayers. In this workshop\, we’ll look at this tradition and learn simple\, powerful techniques you can begin using right away.Whether you’re brand new to magical practice or a long‑time practitioner looking to deepen your craft\, everyone is welcome. Be sure to have some string or cord available\, this is a relaxed\, hands‑on session designed to spark creativity\, connection\, and a sense of magical empowerment.  \n\n\n\n\nWe look forward to weaving magic with you.
URL:https://silvercirclepagans.ca/event/online-class-13/
LOCATION:Zoom\, https://us02web.zoom.us/j/84903735487… Meeting ID: 849 0373 5487\, Passcode: 863723\, Canada
CATEGORIES:Class
ATTACH;FMTTYPE=image/jpeg:https://silvercirclepagans.ca/wp-content/uploads/2025/10/knot-magic.jpg
ORGANIZER;CN="Silver Circle":MAILTO:silvercirclepagan@gmail.com
END:VEVENT
BEGIN:VEVENT
DTSTART;TZID=America/Toronto:20260123T190000
DTEND;TZID=America/Toronto:20260123T210000
DTSTAMP:20260421T171259
CREATED:20251029T005058Z
LAST-MODIFIED:20260120T034337Z
UID:677-1769194800-1769202000@silvercirclepagans.ca
SUMMARY:Online Class: Pre-Bragi Class: Norse Culture and Story
DESCRIPTION:Whether you’re planning to attend the Bragi on Friday\, February 20th\, or you’re simply fascinated by Norse culture\, mythology\, and storytelling\, this class is the perfect opportunity to dive deeper.\n\n\n\n\n\nSilver Circle is excited to offer a free online session where we’ll explore the rich traditions\, tales\, and cultural roots of the Norse world. All are welcome—curious beginners\, seasoned practitioners\, and anyone who loves a good story.
URL:https://silvercirclepagans.ca/event/online-class-14/
LOCATION:Zoom\, https://us02web.zoom.us/j/84903735487… Meeting ID: 849 0373 5487\, Passcode: 863723\, Canada
CATEGORIES:Class
ATTACH;FMTTYPE=image/jpeg:https://silvercirclepagans.ca/wp-content/uploads/2025/10/Bragi-class.jpg
ORGANIZER;CN="Silver Circle":MAILTO:silvercirclepagan@gmail.com
END:VEVENT
BEGIN:VEVENT
DTSTART;TZID=America/Toronto:20260213T190000
DTEND;TZID=America/Toronto:20260213T210000
DTSTAMP:20260421T171259
CREATED:20251029T005142Z
LAST-MODIFIED:20260209T042951Z
UID:679-1771009200-1771016400@silvercirclepagans.ca
SUMMARY:Online Class: Exploring the Elements and Their Associations
DESCRIPTION:Step into an evening of discovery as we explore the classical elements and the rich web of symbolism\, energy\, and meaning that surrounds them. Whether you’re new to elemental work or looking to deepen your existing practice\, this class offers a welcoming space to learn\, reflect\, and connect.Together\, we’ll look at how different traditions understand the elements\, how they show up in our daily lives\, and how you can work with them intentionally in your spiritual or magical practice. Expect lively discussion\, hands-on exploration\, and plenty of opportunities to engage with the material in a way that feels personal and empowering.
URL:https://silvercirclepagans.ca/event/online-class-15/
LOCATION:Zoom\, https://us02web.zoom.us/j/84903735487… Meeting ID: 849 0373 5487\, Passcode: 863723\, Canada
CATEGORIES:Class
ATTACH;FMTTYPE=image/jpeg:https://silvercirclepagans.ca/wp-content/uploads/2025/10/Elemental-Associations.jpg
ORGANIZER;CN="Silver Circle":MAILTO:silvercirclepagan@gmail.com
END:VEVENT
BEGIN:VEVENT
DTSTART;TZID=America/Toronto:20260227T190000
DTEND;TZID=America/Toronto:20260227T210000
DTSTAMP:20260421T171259
CREATED:20251029T005220Z
LAST-MODIFIED:20260224T044616Z
UID:681-1772218800-1772226000@silvercirclepagans.ca
SUMMARY:Online Class: Famous Occult Figures
DESCRIPTION:Silver Circle is pleased to present a special online class offered by James Carter of Crown and Crescent. Join us on Friday\, February 27th at 7:00pm for an illuminating exploration of influential figures who have shaped occult traditions throughout history.\n\n\nFrom mystics and magicians to modern practitioners\, this session will introduce key personalities\, their legacies\, and the ways their work continues to influence contemporary spiritual paths.\n\n\nThis class is free to attend.
URL:https://silvercirclepagans.ca/event/online-class-16/
LOCATION:Zoom\, https://us02web.zoom.us/j/84903735487… Meeting ID: 849 0373 5487\, Passcode: 863723\, Canada
CATEGORIES:Class
ATTACH;FMTTYPE=image/jpeg:https://silvercirclepagans.ca/wp-content/uploads/2025/10/famous-occalt-figures.jpg
ORGANIZER;CN="Silver Circle":MAILTO:silvercirclepagan@gmail.com
END:VEVENT
BEGIN:VEVENT
DTSTART;TZID=America/Toronto:20260313T190000
DTEND;TZID=America/Toronto:20260313T210000
DTSTAMP:20260421T171259
CREATED:20251029T005403Z
LAST-MODIFIED:20260309T033752Z
UID:683-1773428400-1773435600@silvercirclepagans.ca
SUMMARY:Online Class: Lithomancy
DESCRIPTION:Discover the Art of Lithomancy with Silver Circle!Join us for an illuminating online class exploring the ancient divinatory practice of lithomancy—reading stones\, crystals\, and the patterns they create. Whether you’re brand‑new to the craft or looking to deepen your intuitive skills\, this session offers a welcoming space to learn\, connect\, and practice.This class is free to attend.
URL:https://silvercirclepagans.ca/event/online-class-17/
LOCATION:Zoom\, https://us02web.zoom.us/j/84903735487… Meeting ID: 849 0373 5487\, Passcode: 863723\, Canada
CATEGORIES:Class
ATTACH;FMTTYPE=image/jpeg:https://silvercirclepagans.ca/wp-content/uploads/2025/10/Lithomancy.jpg
ORGANIZER;CN="Silver Circle":MAILTO:silvercirclepagan@gmail.com
END:VEVENT
BEGIN:VEVENT
DTSTART;TZID=America/Toronto:20260327T190000
DTEND;TZID=America/Toronto:20260327T210000
DTSTAMP:20260421T171259
CREATED:20251029T005501Z
LAST-MODIFIED:20260324T124857Z
UID:685-1774638000-1774645200@silvercirclepagans.ca
SUMMARY:Online Class: Gemstones and Magic
DESCRIPTION:Join us for an introduction to working with gemstones in magical practice. We’ll explore basic uses\, simple techniques\, and suggestions suitable for all experience levels.
URL:https://silvercirclepagans.ca/event/online-class-18/
LOCATION:Zoom\, https://us02web.zoom.us/j/84903735487… Meeting ID: 849 0373 5487\, Passcode: 863723\, Canada
CATEGORIES:Class
ATTACH;FMTTYPE=image/jpeg:https://silvercirclepagans.ca/wp-content/uploads/2025/10/gemstones.jpg
ORGANIZER;CN="Silver Circle":MAILTO:silvercirclepagan@gmail.com
END:VEVENT
BEGIN:VEVENT
DTSTART;TZID=America/Toronto:20260410T190000
DTEND;TZID=America/Toronto:20260410T210000
DTSTAMP:20260421T171259
CREATED:20251230T040123Z
LAST-MODIFIED:20260408T032431Z
UID:731-1775847600-1775854800@silvercirclepagans.ca
SUMMARY:Online Class: The Wheel of the Year – A Silver Circle Workshop
DESCRIPTION:Join Silver Circle for an engaging and insightful exploration of The Wheel of the Year — the eight seasonal festivals that shape many Pagan and earth‑based spiritual traditions. Whether you’re new to the path or deepening your practice\, this workshop offers a welcoming space to learn\, reflect\, and connect.\n\n\nTogether\, we’ll explore:\n\n\n\n\nThe meaning and history of each Sabbat\n\n\n\n\n\n\nHow seasonal energies influence spiritual practice\n\n\n\n\n\n\nWays to honour the turning of the year in daily life\n\n\n\n\n\n\nRitual ideas\, symbolism\, and community traditions
URL:https://silvercirclepagans.ca/event/online-class-19/
LOCATION:Zoom\, https://us02web.zoom.us/j/84903735487… Meeting ID: 849 0373 5487\, Passcode: 863723\, Canada
CATEGORIES:Class
ATTACH;FMTTYPE=image/jpeg:https://silvercirclepagans.ca/wp-content/uploads/2025/12/wheel-of-the-year.jpg
ORGANIZER;CN="Silver Circle":MAILTO:silvercirclepagan@gmail.com
END:VEVENT
BEGIN:VEVENT
DTSTART;TZID=America/Toronto:20260424T190000
DTEND;TZID=America/Toronto:20260424T210000
DTSTAMP:20260421T171259
CREATED:20251230T040348Z
LAST-MODIFIED:20260420T205132Z
UID:735-1777057200-1777064400@silvercirclepagans.ca
SUMMARY:Online Class: All about the Hand and Summoner
DESCRIPTION:Silver Circle will soon welcome their new Hand and Summoner!Join us in this class to find out the traditional and modern responsibilities of these important roles in traditional covens and public groups.Everyone with an open heart and mind is welcome!
URL:https://silvercirclepagans.ca/event/online-class-20/
LOCATION:Zoom\, https://us02web.zoom.us/j/84903735487… Meeting ID: 849 0373 5487\, Passcode: 863723\, Canada
CATEGORIES:Class
ATTACH;FMTTYPE=image/jpeg:https://silvercirclepagans.ca/wp-content/uploads/2025/12/Hand-and-Summoner-Class.jpg
ORGANIZER;CN="Silver Circle":MAILTO:silvercirclepagan@gmail.com
END:VEVENT
BEGIN:VEVENT
DTSTART;TZID=America/Toronto:20260508T190000
DTEND;TZID=America/Toronto:20260508T210000
DTSTAMP:20260421T171259
CREATED:20251230T040727Z
LAST-MODIFIED:20251230T040727Z
UID:739-1778266800-1778274000@silvercirclepagans.ca
SUMMARY:Online Class:
DESCRIPTION:
URL:https://silvercirclepagans.ca/event/online-class-21/
LOCATION:Zoom\, https://us02web.zoom.us/j/84903735487… Meeting ID: 849 0373 5487\, Passcode: 863723\, Canada
CATEGORIES:Class
ORGANIZER;CN="Silver Circle":MAILTO:silvercirclepagan@gmail.com
END:VEVENT
BEGIN:VEVENT
DTSTART;TZID=America/Toronto:20260522T190000
DTEND;TZID=America/Toronto:20260522T210000
DTSTAMP:20260421T171259
CREATED:20251230T041053Z
LAST-MODIFIED:20251230T041053Z
UID:743-1779476400-1779483600@silvercirclepagans.ca
SUMMARY:Online Class:
DESCRIPTION:
URL:https://silvercirclepagans.ca/event/online-class-22/
LOCATION:Zoom\, https://us02web.zoom.us/j/84903735487… Meeting ID: 849 0373 5487\, Passcode: 863723\, Canada
CATEGORIES:Class
ORGANIZER;CN="Silver Circle":MAILTO:silvercirclepagan@gmail.com
END:VEVENT
BEGIN:VEVENT
DTSTART;TZID=America/Toronto:20260612T190000
DTEND;TZID=America/Toronto:20260612T210000
DTSTAMP:20260421T171259
CREATED:20251230T041533Z
LAST-MODIFIED:20251230T041533Z
UID:749-1781290800-1781298000@silvercirclepagans.ca
SUMMARY:Online Class:
DESCRIPTION:
URL:https://silvercirclepagans.ca/event/online-class-23/
LOCATION:Zoom\, https://us02web.zoom.us/j/84903735487… Meeting ID: 849 0373 5487\, Passcode: 863723\, Canada
CATEGORIES:Class
ORGANIZER;CN="Silver Circle":MAILTO:silvercirclepagan@gmail.com
END:VEVENT
BEGIN:VEVENT
DTSTART;TZID=America/Toronto:20260626T190000
DTEND;TZID=America/Toronto:20260626T210000
DTSTAMP:20260421T171259
CREATED:20251230T041903Z
LAST-MODIFIED:20251230T041903Z
UID:753-1782500400-1782507600@silvercirclepagans.ca
SUMMARY:Online Class:
DESCRIPTION:
URL:https://silvercirclepagans.ca/event/online-class-24/
LOCATION:Zoom\, https://us02web.zoom.us/j/84903735487… Meeting ID: 849 0373 5487\, Passcode: 863723\, Canada
CATEGORIES:Class
ORGANIZER;CN="Silver Circle":MAILTO:silvercirclepagan@gmail.com
END:VEVENT
BEGIN:VEVENT
DTSTART;TZID=America/Toronto:20260710T190000
DTEND;TZID=America/Toronto:20260710T210000
DTSTAMP:20260421T171259
CREATED:20260202T051112Z
LAST-MODIFIED:20260202T051121Z
UID:792-1783710000-1783717200@silvercirclepagans.ca
SUMMARY:Online Class:
DESCRIPTION:
URL:https://silvercirclepagans.ca/event/online-class-25/
LOCATION:Zoom\, https://us02web.zoom.us/j/84903735487… Meeting ID: 849 0373 5487\, Passcode: 863723\, Canada
CATEGORIES:Class
ORGANIZER;CN="Silver Circle":MAILTO:silvercirclepagan@gmail.com
END:VEVENT
BEGIN:VEVENT
DTSTART;TZID=America/Toronto:20260724T190000
DTEND;TZID=America/Toronto:20260724T210000
DTSTAMP:20260421T171259
CREATED:20260202T051208Z
LAST-MODIFIED:20260227T043529Z
UID:795-1784919600-1784926800@silvercirclepagans.ca
SUMMARY:Online Class:
DESCRIPTION:
URL:https://silvercirclepagans.ca/event/online-class-26/
LOCATION:Zoom\, https://us02web.zoom.us/j/84903735487… Meeting ID: 849 0373 5487\, Passcode: 863723\, Canada
CATEGORIES:Class
ORGANIZER;CN="Silver Circle":MAILTO:silvercirclepagan@gmail.com
END:VEVENT
BEGIN:VEVENT
DTSTART;TZID=America/Toronto:20260814T080000
DTEND;TZID=America/Toronto:20260814T170000
DTSTAMP:20260421T171259
CREATED:20260202T051247Z
LAST-MODIFIED:20260202T051247Z
UID:797-1786694400-1786726800@silvercirclepagans.ca
SUMMARY:Online Class:
DESCRIPTION:
URL:https://silvercirclepagans.ca/event/online-class-27/
LOCATION:Zoom\, https://us02web.zoom.us/j/84903735487… Meeting ID: 849 0373 5487\, Passcode: 863723\, Canada
CATEGORIES:Class
ORGANIZER;CN="Silver Circle":MAILTO:silvercirclepagan@gmail.com
END:VEVENT
BEGIN:VEVENT
DTSTART;TZID=America/Toronto:20260828T080000
DTEND;TZID=America/Toronto:20260828T170000
DTSTAMP:20260421T171259
CREATED:20260202T051521Z
LAST-MODIFIED:20260202T051521Z
UID:801-1787904000-1787936400@silvercirclepagans.ca
SUMMARY:Online Class:
DESCRIPTION:
URL:https://silvercirclepagans.ca/event/online-class-28/
LOCATION:Zoom\, https://us02web.zoom.us/j/84903735487… Meeting ID: 849 0373 5487\, Passcode: 863723\, Canada
CATEGORIES:Class
ORGANIZER;CN="Silver Circle":MAILTO:silvercirclepagan@gmail.com
END:VEVENT
BEGIN:VEVENT
DTSTART;TZID=America/Toronto:20260911T190000
DTEND;TZID=America/Toronto:20260911T210000
DTSTAMP:20260421T171259
CREATED:20260217T032601Z
LAST-MODIFIED:20260217T032601Z
UID:839-1789153200-1789160400@silvercirclepagans.ca
SUMMARY:Online Class:
DESCRIPTION:
URL:https://silvercirclepagans.ca/event/online-class-29/
LOCATION:Zoom\, https://us02web.zoom.us/j/84903735487… Meeting ID: 849 0373 5487\, Passcode: 863723\, Canada
CATEGORIES:Class
ORGANIZER;CN="Silver Circle":MAILTO:silvercirclepagan@gmail.com
END:VEVENT
BEGIN:VEVENT
DTSTART;TZID=America/Toronto:20260925T190000
DTEND;TZID=America/Toronto:20260925T230000
DTSTAMP:20260421T171259
CREATED:20260217T032700Z
LAST-MODIFIED:20260217T032700Z
UID:841-1790362800-1790377200@silvercirclepagans.ca
SUMMARY:Online Class:
DESCRIPTION:
URL:https://silvercirclepagans.ca/event/online-class-30/
LOCATION:Zoom\, https://us02web.zoom.us/j/84903735487… Meeting ID: 849 0373 5487\, Passcode: 863723\, Canada
CATEGORIES:Class
ORGANIZER;CN="Silver Circle":MAILTO:silvercirclepagan@gmail.com
END:VEVENT
BEGIN:VEVENT
DTSTART;TZID=America/Toronto:20261009T190000
DTEND;TZID=America/Toronto:20261009T210000
DTSTAMP:20260421T171259
CREATED:20260217T032742Z
LAST-MODIFIED:20260217T032742Z
UID:843-1791572400-1791579600@silvercirclepagans.ca
SUMMARY:Online Class:
DESCRIPTION:
URL:https://silvercirclepagans.ca/event/online-class-31/
LOCATION:Zoom\, https://us02web.zoom.us/j/84903735487… Meeting ID: 849 0373 5487\, Passcode: 863723\, Canada
CATEGORIES:Class
ORGANIZER;CN="Silver Circle":MAILTO:silvercirclepagan@gmail.com
END:VEVENT
BEGIN:VEVENT
DTSTART;TZID=America/Toronto:20261023T190000
DTEND;TZID=America/Toronto:20261023T210000
DTSTAMP:20260421T171259
CREATED:20260217T032844Z
LAST-MODIFIED:20260217T032844Z
UID:845-1792782000-1792789200@silvercirclepagans.ca
SUMMARY:Online Class:
DESCRIPTION:
URL:https://silvercirclepagans.ca/event/online-class-32/
LOCATION:Zoom\, https://us02web.zoom.us/j/84903735487… Meeting ID: 849 0373 5487\, Passcode: 863723\, Canada
CATEGORIES:Class
ORGANIZER;CN="Silver Circle":MAILTO:silvercirclepagan@gmail.com
END:VEVENT
BEGIN:VEVENT
DTSTART;TZID=America/Toronto:20261113T190000
DTEND;TZID=America/Toronto:20261113T210000
DTSTAMP:20260421T171259
CREATED:20260217T033015Z
LAST-MODIFIED:20260217T033056Z
UID:847-1794596400-1794603600@silvercirclepagans.ca
SUMMARY:Online Class:
DESCRIPTION:
URL:https://silvercirclepagans.ca/event/online-class-33/
LOCATION:Zoom\, https://us02web.zoom.us/j/84903735487… Meeting ID: 849 0373 5487\, Passcode: 863723\, Canada
CATEGORIES:Class
ORGANIZER;CN="Silver Circle":MAILTO:silvercirclepagan@gmail.com
END:VEVENT
BEGIN:VEVENT
DTSTART;TZID=America/Toronto:20261127T190000
DTEND;TZID=America/Toronto:20261127T210000
DTSTAMP:20260421T171259
CREATED:20260217T033200Z
LAST-MODIFIED:20260217T033200Z
UID:849-1795806000-1795813200@silvercirclepagans.ca
SUMMARY:Online Class:
DESCRIPTION:
URL:https://silvercirclepagans.ca/event/online-class-34/
LOCATION:Zoom\, https://us02web.zoom.us/j/84903735487… Meeting ID: 849 0373 5487\, Passcode: 863723\, Canada
CATEGORIES:Class
ORGANIZER;CN="Silver Circle":MAILTO:silvercirclepagan@gmail.com
END:VEVENT
BEGIN:VEVENT
DTSTART;TZID=America/Toronto:20261211T190000
DTEND;TZID=America/Toronto:20261211T210000
DTSTAMP:20260421T171259
CREATED:20260217T033247Z
LAST-MODIFIED:20260217T033247Z
UID:851-1797015600-1797022800@silvercirclepagans.ca
SUMMARY:Online Class:
DESCRIPTION:
URL:https://silvercirclepagans.ca/event/online-class-35/
LOCATION:Zoom\, https://us02web.zoom.us/j/84903735487… Meeting ID: 849 0373 5487\, Passcode: 863723\, Canada
CATEGORIES:Class
ORGANIZER;CN="Silver Circle":MAILTO:silvercirclepagan@gmail.com
END:VEVENT
END:VCALENDAR