BEGIN:VCALENDAR
VERSION:2.0
PRODID:-//Silver Circle Pagan/Wiccan Temple, Hamilton Ontario Canada  - ECPv6.11.2//NONSGML v1.0//EN
CALSCALE:GREGORIAN
METHOD:PUBLISH
X-WR-CALNAME:Silver Circle Pagan/Wiccan Temple, Hamilton Ontario Canada 
X-ORIGINAL-URL:https://silvercirclepagans.ca
X-WR-CALDESC:Events for Silver Circle Pagan/Wiccan Temple, Hamilton Ontario Canada 
REFRESH-INTERVAL;VALUE=DURATION:PT1H
X-Robots-Tag:noindex
X-PUBLISHED-TTL:PT1H
BEGIN:VTIMEZONE
TZID:America/Toronto
BEGIN:DAYLIGHT
TZOFFSETFROM:-0500
TZOFFSETTO:-0400
TZNAME:EDT
DTSTART:20250309T070000
END:DAYLIGHT
BEGIN:STANDARD
TZOFFSETFROM:-0400
TZOFFSETTO:-0500
TZNAME:EST
DTSTART:20251102T060000
END:STANDARD
END:VTIMEZONE
BEGIN:VEVENT
DTSTART;TZID=America/Toronto:20250808T190000
DTEND;TZID=America/Toronto:20250808T210000
DTSTAMP:20260421T042509
CREATED:20250416T151124Z
LAST-MODIFIED:20250803T142553Z
UID:288-1754679600-1754686800@silvercirclepagans.ca
SUMMARY:Online Class: Planetary Magic Part 1
DESCRIPTION:Silver Circle Presents: Planetary Magic – Part 1 Friday\, August 8th at 7:00 PM EDT \n\n\n Online & Free to Attend \n\n\n\nReady to deepen your magical practice with the wisdom of the cosmos? Join Silver Circle for an illuminating evening of planetary magic\, led by Andy—your guide through the celestial mysteries. In this enriching free online class\, we’ll explore:\n\n\n The Chaldean Order of Planets – Unlock ancient insights into planetary energies and their influence on magical workings.  Planetary Hours – Learn how to time your spells and rituals for maximum potency.  Magic Squares – Discover this mathematical method for harnessing planetary power.  Lunar Calendars – Enhance your intuitive practice by aligning with the moon’s rhythms.\n\n\nWhether you’re an experienced practitioner or just beginning your magical journey\, this class invites you to connect with planetary forces in a grounded and practical way. \n\n\n\n Support the Circle: Silver Circle offers classes and rituals free of charge\, thanks to the generosity of our magical community. E-transfers to silvercirclepagan@gmail.com are warmly appreciated and carefully applied to sustain future offerings.\n\n\nCome venture deeper into your magical path—and let the planets guide your way. \n\n\nZoom Information: https://us02web.zoom.us/j/84903735487…\nMeeting ID: 849 0373 5487\nPasscode: 863723
URL:https://silvercirclepagans.ca/event/online-class-6/
LOCATION:Zoom\, https://us02web.zoom.us/j/84903735487… Meeting ID: 849 0373 5487\, Passcode: 863723\, Canada
CATEGORIES:Class
ATTACH;FMTTYPE=image/jpeg:https://silvercirclepagans.ca/wp-content/uploads/2025/04/Planetary-Magic.jpg
ORGANIZER;CN="Silver Circle":MAILTO:silvercirclepagan@gmail.com
END:VEVENT
BEGIN:VEVENT
DTSTART;TZID=America/Toronto:20250822T190000
DTEND;TZID=America/Toronto:20250822T210000
DTSTAMP:20260421T042509
CREATED:20250416T151215Z
LAST-MODIFIED:20250819T035537Z
UID:290-1755889200-1755896400@silvercirclepagans.ca
SUMMARY:Online Class: Planetary Magic Part 2
DESCRIPTION:Planetary Magic Part 2\n\n\nReady to deepen your magical practice with the wisdom of the cosmos? Join Silver Circle for another illuminating evening of planetary magic\, where ancient symbols meet celestial forces. This session will explore the legendary Solomonic Seals—44 sacred pentacles drawn from The Greater Key of Solomon\, a foundational grimoire of Western ceremonial magic. \n\n\n\nThese pentacles\, each aligned with one of the seven classical planets—Sun\, Moon\, Mercury\, Venus\, Mars\, Jupiter\, and Saturn—are designed to:\n\n\nInvoke divine assistance and spiritual protection\n\n\nAttract love\, wealth\, wisdom\, and healing\n\n\nChannel planetary energies through ritual and intention\n\n\nConnect with angelic forces and sacred geometry \n\n\n\nWhether you’re new to planetary magic or seeking to refine your practice\, this workshop offers practical insights into how to work with these seals\, including timing rituals with planetary hours\, consecration techniques\, and intuitive applications for modern spiritual seekers.\n\n\nSupport the Circle: Silver Circle offers classes and rituals free of charge\, thanks to the generosity of our magical community. E-transfers to silvercirclepagan@gmail.com are warmly appreciated and carefully applied to sustain future offerings. \n\n\n\nCome venture deeper into your magical path—and let the planets guide your way.
URL:https://silvercirclepagans.ca/event/online-class-7/
LOCATION:Zoom\, https://us02web.zoom.us/j/84903735487… Meeting ID: 849 0373 5487\, Passcode: 863723\, Canada
CATEGORIES:Class
ATTACH;FMTTYPE=image/jpeg:https://silvercirclepagans.ca/wp-content/uploads/2025/04/Planet-Magic-part-2.jpg
ORGANIZER;CN="Silver Circle":MAILTO:silvercirclepagan@gmail.com
END:VEVENT
END:VCALENDAR