BEGIN:VCALENDAR
VERSION:2.0
PRODID:-//Silver Circle Pagan/Wiccan Temple, Hamilton Ontario Canada  - ECPv6.11.2//NONSGML v1.0//EN
CALSCALE:GREGORIAN
METHOD:PUBLISH
X-ORIGINAL-URL:https://silvercirclepagans.ca
X-WR-CALDESC:Events for Silver Circle Pagan/Wiccan Temple, Hamilton Ontario Canada 
REFRESH-INTERVAL;VALUE=DURATION:PT1H
X-Robots-Tag:noindex
X-PUBLISHED-TTL:PT1H
BEGIN:VTIMEZONE
TZID:America/Toronto
BEGIN:DAYLIGHT
TZOFFSETFROM:-0500
TZOFFSETTO:-0400
TZNAME:EDT
DTSTART:20250309T070000
END:DAYLIGHT
BEGIN:STANDARD
TZOFFSETFROM:-0400
TZOFFSETTO:-0500
TZNAME:EST
DTSTART:20251102T060000
END:STANDARD
END:VTIMEZONE
BEGIN:VEVENT
DTSTART;TZID=America/Toronto:20250711T080000
DTEND;TZID=America/Toronto:20250711T170000
DTSTAMP:20260421T055149
CREATED:20250416T145718Z
LAST-MODIFIED:20250707T155116Z
UID:267-1752220800-1752253200@silvercirclepagans.ca
SUMMARY:Workshop: Ritual Construction Part 1
DESCRIPTION:Workshop: Ritual Construction Ready to dig deep into the sacred art of crafting ritual? Join Shannon for a dynamic two-part journey that promises insight and inspiration.Part 1: Building the Bones Uncover the why behind every candle lit and circle cast. Shannon will guide you through the practical framework of ritual construction:Ritual order: understanding the flow and its purposeWriting powerful calls and effective liturgyCrafting magical workings that actually workReal-life stories of ritual triumphs… and spectacular misfiresWhether you’re a curious beginner or seasoned practitioner\, this session offers tools\, tips\, and tales to elevate your magical practice. \nZoom Information: https://us02web.zoom.us/j/84903735487…\nMeeting ID: 849 0373 5487\nPasscode: 863723
URL:https://silvercirclepagans.ca/event/online-class-2/
LOCATION:Zoom\, https://us02web.zoom.us/j/84903735487… Meeting ID: 849 0373 5487\, Passcode: 863723\, Canada
CATEGORIES:Class
ATTACH;FMTTYPE=image/jpeg:https://silvercirclepagans.ca/wp-content/uploads/2025/04/Ritual-Construction.jpg
ORGANIZER;CN="Silver Circle":MAILTO:silvercirclepagan@gmail.com
END:VEVENT
BEGIN:VEVENT
DTSTART;TZID=America/Toronto:20250725T190000
DTEND;TZID=America/Toronto:20250725T210000
DTSTAMP:20260421T055149
CREATED:20250416T150310Z
LAST-MODIFIED:20250722T170105Z
UID:277-1753470000-1753477200@silvercirclepagans.ca
SUMMARY:Workshop: Ritual Construction Part 2: Co-Creation in Action
DESCRIPTION:Join Silver Circle for Ritual Construction: Part 2 on Friday\, July 25th at 7:00 PM (via Zoom)! Whether you’re a seasoned ritualist or just curious about the craft\, this gathering is your chance to help design a community ritual that will be performed on October 3rd—and you don’t need to have attended Part 1 to jump in. Everyone’s energy and ideas are welcome. The more minds\, the more magic! Silver Circle is entirely volunteer-run and thrives on your generous support. If you’d like to contribute\, donations are welcome via e-transfer to silvercirclepagan@gmail.com or in cash at in-person rituals. \nEvery contribution helps sustain this sacred space—we’re grateful for your kindness and community spirit! \nLet’s build something magical together! \nZoom Information: https://us02web.zoom.us/j/84903735487…\nMeeting ID: 849 0373 5487\nPasscode: 863723
URL:https://silvercirclepagans.ca/event/online-class-5/
LOCATION:Zoom\, https://us02web.zoom.us/j/84903735487… Meeting ID: 849 0373 5487\, Passcode: 863723\, Canada
CATEGORIES:Class
ATTACH;FMTTYPE=image/jpeg:https://silvercirclepagans.ca/wp-content/uploads/2025/04/ritual-construction-2.jpg
ORGANIZER;CN="Silver Circle":MAILTO:silvercirclepagan@gmail.com
END:VEVENT
END:VCALENDAR