BEGIN:VCALENDAR
VERSION:2.0
PRODID:-//Silver Circle Pagan/Wiccan Temple, Hamilton Ontario Canada  - ECPv6.11.2//NONSGML v1.0//EN
CALSCALE:GREGORIAN
METHOD:PUBLISH
X-ORIGINAL-URL:https://silvercirclepagans.ca
X-WR-CALDESC:Events for Silver Circle Pagan/Wiccan Temple, Hamilton Ontario Canada 
REFRESH-INTERVAL;VALUE=DURATION:PT1H
X-Robots-Tag:noindex
X-PUBLISHED-TTL:PT1H
BEGIN:VTIMEZONE
TZID:America/Toronto
BEGIN:DAYLIGHT
TZOFFSETFROM:-0500
TZOFFSETTO:-0400
TZNAME:EDT
DTSTART:20250309T070000
END:DAYLIGHT
BEGIN:STANDARD
TZOFFSETFROM:-0400
TZOFFSETTO:-0500
TZNAME:EST
DTSTART:20251102T060000
END:STANDARD
END:VTIMEZONE
BEGIN:VEVENT
DTSTART;TZID=America/Toronto:20251121T200000
DTEND;TZID=America/Toronto:20251121T230000
DTSTAMP:20260419T084037
CREATED:20250902T025254Z
LAST-MODIFIED:20251117T041632Z
UID:558-1763755200-1763766000@silvercirclepagans.ca
SUMMARY:Community Wiccan/Pagan Ritual: Illumination in the Dark Season
DESCRIPTION:The wheel has turned and we find ourselves looking down the long road of winter. The cold and dark of the season can be challenging. So we invite you to join us on Friday November 21\, 2025 to take part in a ritual designed to find the light in the darkness and to celebrate and carry that light through the dark season ahead. We will take a journey and create a token to remind us through the darker days of winter of the light that is there if we should only take a moment to look.\n\n\n\nCan’t make it in person? watch online at\,\nZoom Information: https://us02web.zoom.us/j/84903735487…\nMeeting ID: 849 0373 5487\nPasscode: 863723
URL:https://silvercirclepagans.ca/event/ritual-3/
LOCATION:First Unitarian Church of Hamilton\, 170 Dundurn St. S.\, Ontario\, L8P 4K3\, Canada
CATEGORIES:Ritual
ATTACH;FMTTYPE=image/jpeg:https://silvercirclepagans.ca/wp-content/uploads/2025/09/Dark-Season-Ritual.jpg
ORGANIZER;CN="Silver Circle":MAILTO:silvercirclepagan@gmail.com
END:VEVENT
END:VCALENDAR